BEGIN:VCALENDAR
VERSION:2.0
METHOD:PUBLISH
X-WR-CALNAME;VALUE=TEXT:Talk: Beauty in Numbers - Scientific Visualization meets Hollywood Flair
PRODID:-//Drupal iCal API//EN
BEGIN:VEVENT
DTSTART:20240429T120000Z
DTEND:20240429T130000Z
SUMMARY:Talk: Beauty in Numbers - Scientific Visualization meets Hollywood Flair
DESCRIPTION:
END:VEVENT
END:VCALENDAR
